BEGIN:VCALENDAR
VERSION:2.0
PRODID:-//Cat Country 99.5 - ECPv4.6.26//NONSGML v1.0//EN
CALSCALE:GREGORIAN
METHOD:PUBLISH
X-WR-CALNAME:Cat Country 99.5
X-ORIGINAL-URL:https://catcountry995.com
X-WR-CALDESC:Events for Cat Country 99.5
BEGIN:VEVENT
DTSTART;TZID=America/Halifax:20260510T100000
DTEND;TZID=America/Halifax:20260510T130000
DTSTAMP:20260424T010444
CREATED:20260409T181839Z
LAST-MODIFIED:20260409T181839Z
UID:1721-1778407200-1778418000@catcountry995.com
SUMMARY:Mother’s Day Brunch
DESCRIPTION:Royal Canadian Legion Branch 26\, Truro\, 42 Brunswick Street will be having a Mother’s Day Brunch on Sunday\, May 10th at 10am until 1pm.   The menu is pancakes\, sausages\, hash browns\, coffee\, tea or juice.  Adults $10 each and children under 12 – $5 each.  There will be tickets available for a gift basket raffle. \n
URL:https://catcountry995.com/event/mothers-day-brunch/
END:VEVENT
END:VCALENDAR