BEGIN:VCALENDAR
VERSION:2.0
PRODID:-//Cat Country 99.5 - ECPv4.6.26//NONSGML v1.0//EN
CALSCALE:GREGORIAN
METHOD:PUBLISH
X-WR-CALNAME:Cat Country 99.5
X-ORIGINAL-URL:https://catcountry995.com
X-WR-CALDESC:Events for Cat Country 99.5
BEGIN:VEVENT
DTSTART;TZID=America/Halifax:20260502T130000
DTEND;TZID=America/Halifax:20260502T150000
DTSTAMP:20260423T221048
CREATED:20260423T110322Z
LAST-MODIFIED:20260423T120202Z
UID:1743-1777726800-1777734000@catcountry995.com
SUMMARY:Victorian Tea
DESCRIPTION:Join us for a “Victorian Tea” in support of Masstown United Church on May 2\, 2026 at “The Peg”-1675 Highway 2\, Masstown.  The event starts at 1:00 pm.  Tickets are $25.00 per person\, must be purchased in advance.  Contact: dbtapley@gmail.com  or call 902-986-0430 for tickets.  Lots of traditional Victorian Tea goodies to eat.  Feel free to wear pieces from the Victorian era. There will be a draw for a gift basket included in the ticket cost. This event is so much more than “just a tea”- let us take you back in time… \n
URL:https://catcountry995.com/event/victorian-tea/
END:VEVENT
END:VCALENDAR