BEGIN:VCALENDAR
VERSION:2.0
PRODID:-//Cat Country 99.5 - ECPv4.6.26//NONSGML v1.0//EN
CALSCALE:GREGORIAN
METHOD:PUBLISH
X-WR-CALNAME:Cat Country 99.5
X-ORIGINAL-URL:https://catcountry995.com
X-WR-CALDESC:Events for Cat Country 99.5
BEGIN:VEVENT
DTSTART;TZID=America/Halifax:20260217T080000
DTEND;TZID=America/Halifax:20260413T200000
DTSTAMP:20260420T053724
CREATED:20260217T135617Z
LAST-MODIFIED:20260217T135617Z
UID:1484-1771315200-1776110400@catcountry995.com
SUMMARY:Truro & District Lions Club Paint Night
DESCRIPTION:The Truro & District Lions Club are having Paint Night Monday\, April 13th at 1100 Prince Street\, Truro from 6pm to 8pm.  The cost is $35 per person\, all supplies included.  Take home your own 16” x 20” rendition a gorgeous dragonfly painting.  Minimum of 10 registrants.  Register by Monday\, April 6th by emailing vesta_777@hotmail.com.  Canteen available. \n
URL:https://catcountry995.com/event/truro-district-lions-club-paint-night/
ATTACH;FMTTYPE=image/jpeg:https://catcountry995.com/wp-content/uploads/sites/30/2026/02/Painting-.jpeg
END:VEVENT
BEGIN:VEVENT
DTSTART;TZID=America/Halifax:20260318T193000
DTEND;TZID=America/Halifax:20260623T220000
DTSTAMP:20260420T053724
CREATED:20260312T134255Z
LAST-MODIFIED:20260312T134255Z
UID:1669-1773862200-1782252000@catcountry995.com
SUMMARY:Goodtime Seniors’ Dance Club Every Tuesday Night
DESCRIPTION:The Goodtime Seniors’ Dance Club have a dance every Tuesday evening from 7:30pm to 10:00pm at the Truro Legion on Brunswick Street.  Admission is $10\, 50/50 tickets. A 5-piece band playing waltzes\, fox trots\, polkas\, jives\, waltz quadrilles and country/modern singing.  No canteen service available but you can  bring your own water. Open to all ages!  Come for a good social time.  For more information contact Helen at 902-897-6707.  Theme nights:  April 14 – Spring Bonnet\, May 26 – 50/60’s and June 23 – Canada Day.  There will not be a dance on May 12. \n
URL:https://catcountry995.com/event/goodtime-seniors-dance-club-every-tuesday-night/
END:VEVENT
BEGIN:VEVENT
DTSTART;TZID=America/Halifax:20260328T080000
DTEND;TZID=America/Halifax:20260328T130000
DTSTAMP:20260420T053724
CREATED:20260217T135759Z
LAST-MODIFIED:20260217T135759Z
UID:1487-1774684800-1774702800@catcountry995.com
SUMMARY:Truro & District Lions Club Pancake Breakfast
DESCRIPTION:The Truro & District Lions Club are having their Pancake Breakfast on Saturday\, March 28th at 1100 Prince Street\, Truro from 8am to 1pm.  They will be serving pancakes\, baked beans\, sausages\, toast\, juice and tea or coffee.  The cost is $10 and for 4-12 – $8 and under 4 are free. \n
URL:https://catcountry995.com/event/truro-district-lions-club-pancake-breakfast/
ATTACH;FMTTYPE=image/jpeg:https://catcountry995.com/wp-content/uploads/sites/30/2026/02/Pancakes.jpeg
END:VEVENT
END:VCALENDAR