BEGIN:VCALENDAR
VERSION:2.0
PRODID:-//Cat Country 99.5 - ECPv4.6.26//NONSGML v1.0//EN
CALSCALE:GREGORIAN
METHOD:PUBLISH
X-WR-CALNAME:Cat Country 99.5
X-ORIGINAL-URL:https://catcountry995.com
X-WR-CALDESC:Events for Cat Country 99.5
BEGIN:VEVENT
DTSTART;TZID=America/Halifax:20260318T193000
DTEND;TZID=America/Halifax:20260623T220000
DTSTAMP:20260423T092404
CREATED:20260312T134255Z
LAST-MODIFIED:20260312T134255Z
UID:1669-1773862200-1782252000@catcountry995.com
SUMMARY:Goodtime Seniors’ Dance Club Every Tuesday Night
DESCRIPTION:The Goodtime Seniors’ Dance Club have a dance every Tuesday evening from 7:30pm to 10:00pm at the Truro Legion on Brunswick Street.  Admission is $10\, 50/50 tickets. A 5-piece band playing waltzes\, fox trots\, polkas\, jives\, waltz quadrilles and country/modern singing.  No canteen service available but you can  bring your own water. Open to all ages!  Come for a good social time.  For more information contact Helen at 902-897-6707.  Theme nights:  April 14 – Spring Bonnet\, May 26 – 50/60’s and June 23 – Canada Day.  There will not be a dance on May 12. \n
URL:https://catcountry995.com/event/goodtime-seniors-dance-club-every-tuesday-night/
END:VEVENT
END:VCALENDAR